BEGIN:VCALENDAR
VERSION:2.0
PRODID:-//rm//event//DE
METHOD:REQUEST
NAME:rm
X-WR-CALNAME:rm
BEGIN:VEVENT
UID:267acadc-9dce-4460-9d94-d5cb5e62496d
SEQUENCE:0
DTSTAMP:20260424T145032Z
DTSTART:20251104T230000Z
DTEND:20251105T230000Z
SUMMARY:Unternehmenstag (Day for companies)
LOCATION:Bonn-Rhein-Sieg University of Applied Sciences\, Sankt Augustin
DESCRIPTION:/ Further information
URL;VALUE=URI:https://www.rheinmetall.com/en/events/2025/company-day-at-th
 e-bonn-rhein-sieg-university-of-applied-sciences
END:VEVENT
END:VCALENDAR