BEGIN:VCALENDAR
VERSION:2.0
PRODID:-//rm//event//DE
METHOD:REQUEST
NAME:rm
X-WR-CALNAME:rm
BEGIN:VEVENT
UID:683c6bfa-7040-4ad4-8e35-0a3bd9ca4e19
SEQUENCE:0
DTSTAMP:20260423T160826Z
DTSTART:20251103T230000Z
DTEND:20251103T230000Z
SUMMARY:HOKO
LOCATION:München
DESCRIPTION:Weitere Informationen
URL;VALUE=URI:https://www.rheinmetall.com/de/events/2025/hoko
END:VEVENT
END:VCALENDAR