BEGIN:VCALENDAR
VERSION:2.0
PRODID:-//rm//event//DE
METHOD:REQUEST
NAME:rm
X-WR-CALNAME:rm
BEGIN:VEVENT
UID:4b927174-07fd-4d23-9571-86f0cdcaadd8
SEQUENCE:0
DTSTAMP:20260423T161848Z
DTSTART:20250528T000000Z
DTEND:20250531T000000Z
SUMMARY:IDET
LOCATION:Brno\, Czech Republic
DESCRIPTION:
URL;VALUE=URI:https://www.rheinmetall.com/en/events/2025/idet
END:VEVENT
END:VCALENDAR