BEGIN:VCALENDAR
VERSION:2.0
PRODID:-//rm//event//DE
METHOD:REQUEST
NAME:rm
X-WR-CALNAME:rm
BEGIN:VEVENT
UID:b49bfaf7-d140-4245-bd23-f94c9ca45664
SEQUENCE:0
DTSTAMP:20260423T144717Z
DTSTART:20250611T000000Z
DTEND:20250614T000000Z
SUMMARY:Indodefence
LOCATION:Jakarta\, Indonesia
DESCRIPTION:
URL;VALUE=URI:https://www.rheinmetall.com/en/events/2025/indodefence
END:VEVENT
END:VCALENDAR