BEGIN:VCALENDAR
VERSION:2.0
PRODID:-//rm//event//DE
METHOD:REQUEST
NAME:rm
X-WR-CALNAME:rm
BEGIN:VEVENT
UID:1aed1252-6f06-4618-ae2e-5e18d7073504
SEQUENCE:0
DTSTAMP:20260423T161906Z
DTSTART:20251120T000000Z
DTEND:20251120T000000Z
SUMMARY:NEDS
LOCATION:Rotterdam\, The Netherlands
DESCRIPTION:
URL;VALUE=URI:https://www.rheinmetall.com/en/events/2025/neds
END:VEVENT
END:VCALENDAR