BEGIN:VCALENDAR
VERSION:2.0
PRODID:-//rm//event//DE
METHOD:REQUEST
NAME:rm
X-WR-CALNAME:rm
BEGIN:VEVENT
UID:18ae849d-4e58-4ffc-bbd4-62677e051d8e
SEQUENCE:0
DTSTAMP:20260423T123333Z
DTSTART:20250404T080000Z
DTEND:20250404T080000Z
SUMMARY:JOBBÖRSE
LOCATION:Stadthaus Neuenburg am Rhein
DESCRIPTION:Further Information
URL;VALUE=URI:https://www.rheinmetall.com/en/events/2025/jobboerse
END:VEVENT
END:VCALENDAR