BEGIN:VCALENDAR
VERSION:2.0
PRODID:-//rm//event//DE
METHOD:REQUEST
NAME:rm
X-WR-CALNAME:rm
BEGIN:VEVENT
UID:1a0ce070-ff4d-4ce8-b340-d30714d67ac5
SEQUENCE:0
DTSTAMP:20260424T002159Z
DTSTART:20251016T100000Z
DTEND:20251016T150000Z
SUMMARY:15. Unternehmens und Karriereforum der Universität der Bundeswehr
  München
LOCATION:Campus der Universität der Bundeswehr München\, Geb. 31\, Halle
  2\, Werner-Heisenberg-Weg 39\, 85577 München\, de
DESCRIPTION:Weitere Informationen / Die nationale Tagung zur beruflichen O
 rientierung\, Karriereförderung und wissenschaftlichen Weiterbildung biet
 et neben der Karrieremesse vorbereitende Seminare\, Vortragsprogram
URL;VALUE=URI:https://www.rheinmetall.com/de/events/2025/unternehmens-und-
 karriereforum
END:VEVENT
END:VCALENDAR