BEGIN:VCALENDAR
VERSION:2.0
PRODID:-//rm//event//DE
METHOD:REQUEST
NAME:rm
X-WR-CALNAME:rm
BEGIN:VEVENT
UID:1d1ae084-5cea-4cd4-98e1-f5cdbbe9cab3
SEQUENCE:0
DTSTAMP:20260423T175145Z
DTSTART:20251112T090000Z
DTEND:20251112T090000Z
SUMMARY:Jobmesse Roding
LOCATION:Stadthalle\, Chamer Steig 1\, 93426 Roding\, de
DESCRIPTION:/ Der Berufsförderungsdienst der Bundeswehr Nürnberg informi
 ert über vielfältige Berufs- und Karrieremöglichkeiten und die Anforder
 ungen des Arbeitsmarktes in der Region Oberpfalz und den angrenzenden
URL;VALUE=URI:https://www.rheinmetall.com/de/events/2025/jobmesse-roding
END:VEVENT
END:VCALENDAR