BEGIN:VCALENDAR
VERSION:2.0
PRODID:-//rm//event//DE
METHOD:REQUEST
NAME:rm
X-WR-CALNAME:rm
BEGIN:VEVENT
UID:f61f6897-d072-4462-ae47-96ce22897dc4
SEQUENCE:0
DTSTAMP:20260423T155528Z
DTSTART:20251112T090000Z
DTEND:20251112T090000Z
SUMMARY:Job Fair Roding
LOCATION:Stadthalle\, Chamer Steig 1\, 93426 Roding\, de
DESCRIPTION:/ The Bundeswehr Nuremberg Career Promotion Service provides i
 nformation on a wide range of job and career opportunities and the require
 ments of the labour market in the Upper Palatinate region and ne
URL;VALUE=URI:https://www.rheinmetall.com/en/events/2025/job-fair-roding
END:VEVENT
END:VCALENDAR