BEGIN:VCALENDAR
VERSION:2.0
PRODID:-//rm//event//DE
METHOD:REQUEST
NAME:rm
X-WR-CALNAME:rm
BEGIN:VEVENT
UID:7fcd8eda-c45e-4b4e-b80b-a99aab7d5583
SEQUENCE:0
DTSTAMP:20260425T032413Z
DTSTART:20251118T090000Z
DTEND:20251118T090000Z
SUMMARY:Jobmesse Ingolstadt
LOCATION:\, Manchinger Straße 1\, 85053 Ingolstadt\, de
DESCRIPTION:/ Der Berufsförderungsdienst (BFD) München führt am 18. Nov
 ember 2025 eine Jobmesse in der Pionierkaserne auf der Schanz in Ingolstad
 t für ausscheidende Soldatinnen auf Zeit und Soldaten auf Zeit sowi
URL;VALUE=URI:https://www.rheinmetall.com/de/events/2025/jobmesse-ingolsta
 dt
END:VEVENT
END:VCALENDAR