BEGIN:VCALENDAR
VERSION:2.0
PRODID:-//rm//event//DE
METHOD:REQUEST
NAME:rm
X-WR-CALNAME:rm
BEGIN:VEVENT
UID:d04ae3c7-77c6-49fe-a4b8-ed94d6cda9e7
SEQUENCE:0
DTSTAMP:20260425T032607Z
DTSTART:20251028T083000Z
DTEND:20251028T083000Z
SUMMARY:Jobmesse Bad Reichenhall
LOCATION:\, Lange Gasse 6\, 83435 Bad Reichenhall\, de
DESCRIPTION:/ Der Berufsförderungsdienst München (BFD) führt am 28. Okt
 ober 2025 eine Jobmesse in Bad Reichenhall durch. Das Angebot richtet sich
  an alle interessierten ausscheidenden Soldatinnen auf Zeit und Sol
URL;VALUE=URI:https://www.rheinmetall.com/de/events/2025/jobmesse-bad-reic
 henhall
END:VEVENT
END:VCALENDAR