BEGIN:VCALENDAR
VERSION:2.0
PRODID:-//rm//event//DE
METHOD:REQUEST
NAME:rm
X-WR-CALNAME:rm
BEGIN:VEVENT
UID:22c40824-2ed8-4551-9a16-8718b4383820
SEQUENCE:0
DTSTAMP:20260423T175953Z
DTSTART:20250609T220000Z
DTEND:20250611T220000Z
SUMMARY:InCabin
LOCATION:Detroit\, USA
DESCRIPTION:/ Further information
URL;VALUE=URI:https://www.rheinmetall.com/en/events/2025/incabin-detroit
END:VEVENT
END:VCALENDAR