BEGIN:VCALENDAR
VERSION:2.0
PRODID:-//rm//event//DE
METHOD:REQUEST
NAME:rm
X-WR-CALNAME:rm
BEGIN:VEVENT
UID:8d2cda67-7381-402b-9ab8-4dca17247bf8
SEQUENCE:0
DTSTAMP:20260425T134820Z
DTSTART:20250715T060000Z
DTEND:20250715T060000Z
SUMMARY:Soldatentag
LOCATION:\, Dachauer Straße 128\, 80637 München\, de
DESCRIPTION:/ Der Soldatentag dient den interessierten Soldatinnen und Sol
 daten zum Informationsgewinn über Karrieremöglichkeiten nach Dienstzeite
 nde\, Stellenangebote und Ausbildung- und Umschulungsplätze bei Rhe
URL;VALUE=URI:https://www.rheinmetall.com/de/events/2025/soldatentag-muenc
 hen
END:VEVENT
END:VCALENDAR