BEGIN:VCALENDAR
VERSION:2.0
PRODID:-//rm//event//DE
METHOD:REQUEST
NAME:rm
X-WR-CALNAME:rm
BEGIN:VEVENT
UID:c48eeab0-6631-46f2-9904-897c8ccf3d85
SEQUENCE:0
DTSTAMP:20260423T160825Z
DTSTART:20250816T090000Z
DTEND:20250816T150000Z
SUMMARY:Karrierekick
LOCATION:Signal Iduna Park Dortmund
DESCRIPTION:An alle Ingenieurinnen und Ingenieure\n / Seien Sie dabei\, we
 nn Sie sich für unsere spannende Jobs an unseren Standorten in Kiel\, Kas
 sel und Unterlüß interessieren!
URL;VALUE=URI:https://www.rheinmetall.com/de/events/2025/karrierekick
END:VEVENT
END:VCALENDAR