BEGIN:VCALENDAR
VERSION:2.0
PRODID:-//rm//event//DE
METHOD:REQUEST
NAME:rm
X-WR-CALNAME:rm
BEGIN:VEVENT
UID:2be9e141-86fe-48fd-af3b-45f0af477899
SEQUENCE:0
DTSTAMP:20260425T033305Z
DTSTART:20250803T220000Z
DTEND:20250901T220000Z
SUMMARY:Interchange Network Conference (ICNC)
LOCATION:Airport Tempelhof\, Berlin
DESCRIPTION:/ Further information
URL;VALUE=URI:https://www.rheinmetall.com/en/events/2025/interchange-netwo
 rk-conference
END:VEVENT
END:VCALENDAR