BEGIN:VCALENDAR
VERSION:2.0
PRODID:-//rm//event//DE
METHOD:REQUEST
NAME:rm
X-WR-CALNAME:rm
BEGIN:VEVENT
UID:3dc35ebc-f228-40d3-8e19-2643e43cea8e
SEQUENCE:0
DTSTAMP:20260423T175222Z
DTSTART:20251111T230000Z
DTEND:20251111T230000Z
SUMMARY:talent transfair
LOCATION:Fachhochschule Kiel
DESCRIPTION:/ Further information
URL;VALUE=URI:https://www.rheinmetall.com/en/events/2025/talent-transfair-
 kiel
END:VEVENT
END:VCALENDAR