BEGIN:VCALENDAR
VERSION:2.0
PRODID:-//rm//event//DE
METHOD:REQUEST
NAME:rm
X-WR-CALNAME:rm
BEGIN:VEVENT
UID:b6cb6218-1568-4d71-8430-e1501849b0c3
SEQUENCE:0
DTSTAMP:20260423T162435Z
DTSTART:20251111T090000Z
DTEND:20251114T230000Z
SUMMARY:20th Online Military Recruitment Fair "Soldata"
LOCATION:Online – soldata.de
DESCRIPTION:/ Find out about the wide range of career opportunities at Rhe
 inmetall at Soldata 2025! We will be available to answer your personal que
 stions at our virtual exhibition stand. We look forward to seein
URL;VALUE=URI:https://www.rheinmetall.com/en/events/2025/job-fair-soldata
END:VEVENT
END:VCALENDAR