BEGIN:VCALENDAR
VERSION:2.0
PRODID:-//rm//event//DE
METHOD:REQUEST
NAME:rm
X-WR-CALNAME:rm
BEGIN:VEVENT
UID:513d7d8a-4448-4c5b-b964-94c727333b07
SEQUENCE:0
DTSTAMP:20260425T032719Z
DTSTART:20251112T073000Z
DTEND:20251112T073000Z
SUMMARY:Kontaktforum Perspektive
LOCATION:Georg-Friedrich-Kaserne\, Berliner Straße 100\, 34560 Fritzlar\,
  de
DESCRIPTION:/ Der Berufsförderungsdienst (BFD) der Bundeswehr Kassel läd
 t zur Karrieremesse am Standort Fritzlar ein. Das Angebot richtet sich an 
 alle interessierten Soldatinnen auf Zeit und Soldaten auf Zeit sow
URL;VALUE=URI:https://www.rheinmetall.com/de/events/2025/kontaktforum-pers
 pektive
END:VEVENT
END:VCALENDAR