BEGIN:VCALENDAR
VERSION:2.0
PRODID:-//rm//event//DE
METHOD:REQUEST
NAME:rm
X-WR-CALNAME:rm
BEGIN:VEVENT
UID:2c07b3aa-3426-442c-b7cf-3c2a0391318c
SEQUENCE:0
DTSTAMP:20260423T143642Z
DTSTART:20251112T073000Z
DTEND:20251112T073000Z
SUMMARY:Contact forum Perspective
LOCATION:Georg-Friedrich-Kaserne\, Berliner Straße 100\, 34560 Fritzlar\,
  de
DESCRIPTION:/ The Bundeswehr Kassel Career Promotion Service (BFD) invites
  you to a career fair at its Fritzlar location. The event is open to all 
 interested temporary soldiers and volunteers performing military 
URL;VALUE=URI:https://www.rheinmetall.com/en/events/2025/contact-forum-per
 spective
END:VEVENT
END:VCALENDAR