BEGIN:VCALENDAR
VERSION:2.0
PRODID:-//rm//event//DE
METHOD:REQUEST
NAME:rm
X-WR-CALNAME:rm
BEGIN:VEVENT
UID:8cfd3399-588c-4081-9509-407a22e39b83
SEQUENCE:0
DTSTAMP:20260423T161805Z
DTSTART:20261005T220000Z
DTEND:20261007T220000Z
SUMMARY:Land Forces
LOCATION:Perth\, Australien
DESCRIPTION:Weitere Informationen
URL;VALUE=URI:https://www.rheinmetall.com/de/events/2026/messen/land-force
 s
END:VEVENT
END:VCALENDAR