BEGIN:VCALENDAR
VERSION:2.0
PRODID:-//rm//event//DE
METHOD:REQUEST
NAME:rm
X-WR-CALNAME:rm
BEGIN:VEVENT
UID:aae11f27-4ea6-460d-b4c6-63913d4d63da
SEQUENCE:0
DTSTAMP:20260424T025947Z
DTSTART:20261011T220000Z
DTEND:20261013T220000Z
SUMMARY:AUSA
LOCATION:Washington DC\, USA
DESCRIPTION:Weitere Informationen
URL;VALUE=URI:https://www.rheinmetall.com/de/events/2026/messen/ausa
END:VEVENT
END:VCALENDAR