BEGIN:VCALENDAR
VERSION:2.0
PRODID:-//rm//event//DE
METHOD:REQUEST
NAME:rm
X-WR-CALNAME:rm
BEGIN:VEVENT
UID:3dd57ff0-d3b5-4b38-90db-29bee1c6faaa
SEQUENCE:0
DTSTAMP:20260423T161804Z
DTSTART:20260512T220000Z
DTEND:20260514T220000Z
SUMMARY:BSDA (Black Sea Defense & Aerospace)
LOCATION:Bukarest\, Rumänien
DESCRIPTION:Weitere Informationen
URL;VALUE=URI:https://www.rheinmetall.com/de/events/2026/messen/bsda
END:VEVENT
END:VCALENDAR