BEGIN:VCALENDAR
VERSION:2.0
PRODID:-//rm//event//DE
METHOD:REQUEST
NAME:rm
X-WR-CALNAME:rm
BEGIN:VEVENT
UID:1319d35d-2f13-4455-8edf-a5891ea35cb4
SEQUENCE:0
DTSTAMP:20260423T151327Z
DTSTART:20260915T220000Z
DTEND:20260916T220000Z
SUMMARY:DVD2026
LOCATION:Millbrook\, United Kingdom
DESCRIPTION:/ Further information
URL;VALUE=URI:https://www.rheinmetall.com/en/events/2026/fairs/dvd2026
END:VEVENT
END:VCALENDAR