BEGIN:VCALENDAR
VERSION:2.0
PRODID:-//rm//event//DE
METHOD:REQUEST
NAME:rm
X-WR-CALNAME:rm
BEGIN:VEVENT
UID:57250118-8c55-4a70-8416-b0cf9ec26aab
SEQUENCE:0
DTSTAMP:20260423T175145Z
DTSTART:20260107T230000Z
DTEND:20260108T230000Z
SUMMARY:Oddo BHF Forum
LOCATION:Lyon\, Frankreich
DESCRIPTION:
URL;VALUE=URI:https://www.rheinmetall.com/de/events/2026/ir/oddo-bhf-forum
END:VEVENT
END:VCALENDAR