BEGIN:VCALENDAR
VERSION:2.0
PRODID:-//rm//event//DE
METHOD:REQUEST
NAME:rm
X-WR-CALNAME:rm
BEGIN:VEVENT
UID:b1ac18ee-7dcf-417a-9c28-4bf46f2e2794
SEQUENCE:0
DTSTAMP:20260424T002134Z
DTSTART:20260114T230000Z
DTEND:20260114T230000Z
SUMMARY:Baader Bank
LOCATION:Toronto\, Kanada
DESCRIPTION:
URL;VALUE=URI:https://www.rheinmetall.com/de/events/2026/ir/baader-bank-ge
 rman-corporate-day
END:VEVENT
END:VCALENDAR