BEGIN:VCALENDAR
VERSION:2.0
PRODID:-//rm//event//DE
METHOD:REQUEST
NAME:rm
X-WR-CALNAME:rm
BEGIN:VEVENT
UID:262b6fa6-9897-448b-a1ed-475655585c4d
SEQUENCE:0
DTSTAMP:20260423T123202Z
DTSTART:20260118T230000Z
DTEND:20260119T230000Z
SUMMARY:Kepler Cheuvreux UniCredit 
LOCATION:Frankfurt\, Deutschland
DESCRIPTION:
URL;VALUE=URI:https://www.rheinmetall.com/de/events/2026/ir/kepler-cheuvre
 ux-unicredit
END:VEVENT
END:VCALENDAR