BEGIN:VCALENDAR
VERSION:2.0
PRODID:-//rm//event//DE
METHOD:REQUEST
NAME:rm
X-WR-CALNAME:rm
BEGIN:VEVENT
UID:d77450ed-0e24-473a-8726-bf8388195113
SEQUENCE:0
DTSTAMP:20260424T015932Z
DTSTART:20260511T220000Z
DTEND:20260511T220000Z
SUMMARY:Hauptversammlung Rheinmetall AG
LOCATION:Online
DESCRIPTION:Weitere Informationen / Die ordentliche Hauptversammlung der R
 heinmetall AG findet am Dienstag\, 12. Mai 2026\, in Form einer virtuellen
  Hauptversammlung statt.\n / Dokumente und Informationen zu den Hau
URL;VALUE=URI:https://www.rheinmetall.com/de/events/2026/ir/hauptversammlu
 ng-rheinmetall-ag
END:VEVENT
END:VCALENDAR