BEGIN:VCALENDAR
VERSION:2.0
PRODID:-//rm//event//DE
METHOD:REQUEST
NAME:rm
X-WR-CALNAME:rm
BEGIN:VEVENT
UID:246e4708-5527-419f-b64c-5420d6582dfa
SEQUENCE:0
DTSTAMP:20260425T032524Z
DTSTART:20260805T220000Z
DTEND:20260805T220000Z
SUMMARY:Bericht über das 2. Quartal
DESCRIPTION:
URL;VALUE=URI:https://www.rheinmetall.com/de/events/2026/ir/bericht-ueber-
 das-2-quartal
END:VEVENT
END:VCALENDAR