BEGIN:VCALENDAR
VERSION:2.0
PRODID:-//rm//event//DE
METHOD:REQUEST
NAME:rm
X-WR-CALNAME:rm
BEGIN:VEVENT
UID:f253e30e-8309-4e30-a133-a579fed207b3
SEQUENCE:0
DTSTAMP:20260423T151210Z
DTSTART:20261104T230000Z
DTEND:20261104T230000Z
SUMMARY:Bericht über das 3. Quartal 2026
LOCATION:Online
DESCRIPTION:
URL;VALUE=URI:https://www.rheinmetall.com/de/events/2026/ir/bericht-ueber-
 das-3-quartal
END:VEVENT
END:VCALENDAR