BEGIN:VCALENDAR
VERSION:2.0
PRODID:-//rm//event//DE
METHOD:REQUEST
NAME:rm
X-WR-CALNAME:rm
BEGIN:VEVENT
UID:af050db9-5308-4380-ab03-1fc640410e9e
SEQUENCE:0
DTSTAMP:20260424T014903Z
DTSTART:20260511T220000Z
DTEND:20260511T220000Z
SUMMARY:Annual General Meeting of Rheinmetall AG
LOCATION:Online
DESCRIPTION:/ Further information / The Annual General Meeting of Rheinmet
 all AG will take place on May 12\, 2026 in the form of a virtual Annual Ge
 neral Meeting.\n / Documents and information on the Annual General
URL;VALUE=URI:https://www.rheinmetall.com/en/events/2026/ir/annual-general
 -meeting
END:VEVENT
END:VCALENDAR