BEGIN:VCALENDAR
VERSION:2.0
PRODID:-//rm//event//DE
METHOD:REQUEST
NAME:rm
X-WR-CALNAME:rm
BEGIN:VEVENT
UID:a7021bfb-8963-4142-8a9c-d2ea2e745e22
SEQUENCE:0
DTSTAMP:20260424T002216Z
DTSTART:20260111T230000Z
DTEND:20260113T230000Z
SUMMARY:German Investment Seminar
LOCATION:New York\, U.S.A.
DESCRIPTION:
URL;VALUE=URI:https://www.rheinmetall.com/en/events/2026/ir/german-investm
 ent-seminar-commerzbank-oddo-bhf
END:VEVENT
END:VCALENDAR