BEGIN:VCALENDAR
VERSION:2.0
PRODID:-//rm//event//DE
METHOD:REQUEST
NAME:rm
X-WR-CALNAME:rm
BEGIN:VEVENT
UID:7c8071b1-58e0-4403-ad98-f12b4f2928be
SEQUENCE:0
DTSTAMP:20260419T152657Z
DTSTART:20260316T230000Z
DTEND:20260316T230000Z
SUMMARY:Talent Days Krakau
LOCATION:Krakau
DESCRIPTION:Weitere Informationen
URL;VALUE=URI:https://www.rheinmetall.com/de/events/2026/karriere/talent-d
 ays-krakau
END:VEVENT
END:VCALENDAR