BEGIN:VCALENDAR
VERSION:2.0
PRODID:-//rm//event//DE
METHOD:REQUEST
NAME:rm
X-WR-CALNAME:rm
BEGIN:VEVENT
UID:eb82fd12-781e-40ae-ab53-09d599e625f9
SEQUENCE:0
DTSTAMP:20260423T231124Z
DTSTART:20260327T230000Z
DTEND:20260327T230000Z
SUMMARY:Rheinmetall Career Kick
LOCATION:Signal Iduna Park\, Dortmund
DESCRIPTION:/ Further Information / Are you interested in developing laser
  systems? Or are you interested in developing armoured vehicles? What abou
 t propulsion systems? Or are you simply ready for an exciting jo
URL;VALUE=URI:https://www.rheinmetall.com/en/events/2026/career/rheinmetal
 l-career-kick-march
END:VEVENT
END:VCALENDAR