BEGIN:VCALENDAR
VERSION:2.0
PRODID:-//rm//event//DE
METHOD:REQUEST
NAME:rm
X-WR-CALNAME:rm
BEGIN:VEVENT
UID:2f2291c0-0f64-4621-bd5c-ef5a51f133bd
SEQUENCE:0
DTSTAMP:20260423T162435Z
DTSTART:20260401T220000Z
DTEND:20260401T220000Z
SUMMARY:Talent Days Warschau
LOCATION:Warschau
DESCRIPTION:/ Further Information
URL;VALUE=URI:https://www.rheinmetall.com/en/events/2026/career/talent-day
 s-warschau
END:VEVENT
END:VCALENDAR