BEGIN:VCALENDAR
VERSION:2.0
PRODID:-//rm//event//DE
METHOD:REQUEST
NAME:rm
X-WR-CALNAME:rm
BEGIN:VEVENT
UID:c17730d3-e9c2-4dd9-b543-894b0917129d
SEQUENCE:0
DTSTAMP:20260423T221635Z
DTSTART:20260416T220000Z
DTEND:20260416T220000Z
SUMMARY:Career Day Unterlüß
LOCATION:Unterlüß
DESCRIPTION:/ Further Information Rheinmetall Career Day at our Unterlüß
  production site\n / For all skilled workers (m/f/d) in industrial product
 ion! / For everyone who wants to work in Europe's largest munitions
URL;VALUE=URI:https://www.rheinmetall.com/en/events/2026/career/career-day
 -unterluess
END:VEVENT
END:VCALENDAR