BEGIN:VCALENDAR
VERSION:2.0
PRODID:-//rm//event//DE
METHOD:REQUEST
NAME:rm
X-WR-CALNAME:rm
BEGIN:VEVENT
UID:5bf6c0c6-3534-463a-8abe-def5632e60e9
SEQUENCE:0
DTSTAMP:20260423T202414Z
DTSTART:20260505T220000Z
DTEND:20260505T220000Z
SUMMARY:Campusmesse der Heinrich-Heine-Universität
LOCATION:Heinrich-Heine-Universität Düsseldorf
DESCRIPTION:Weitere Informationen
URL;VALUE=URI:https://www.rheinmetall.com/de/events/2026/karriere/campusme
 sse-der-heinrich-heine-universitaet
END:VEVENT
END:VCALENDAR