BEGIN:VCALENDAR
VERSION:2.0
PRODID:-//rm//event//DE
METHOD:REQUEST
NAME:rm
X-WR-CALNAME:rm
BEGIN:VEVENT
UID:42d89d1a-c349-4dae-8101-3849a8fc36f8
SEQUENCE:0
DTSTAMP:20260423T231144Z
DTSTART:20260505T220000Z
DTEND:20260505T220000Z
SUMMARY:Campus fair at Heinrich Heine University
LOCATION:Heinrich-Heine-Universität Düsseldorf
DESCRIPTION:/ Further Information
URL;VALUE=URI:https://www.rheinmetall.com/en/events/2026/career/campus-fai
 r-at-heinrich-heine-university
END:VEVENT
END:VCALENDAR