BEGIN:VCALENDAR
VERSION:2.0
PRODID:-//rm//event//DE
METHOD:REQUEST
NAME:rm
X-WR-CALNAME:rm
BEGIN:VEVENT
UID:729561ba-576c-414a-a49e-f1d8183e0fb2
SEQUENCE:0
DTSTAMP:20260423T161738Z
DTSTART:20260506T220000Z
DTEND:20260506T220000Z
SUMMARY:ITSconnect (RUB)
LOCATION:Ruhr Uni Bochum
DESCRIPTION:Weitere Informationen
URL;VALUE=URI:https://www.rheinmetall.com/de/events/2026/karriere/itsconne
 ct-rub
END:VEVENT
END:VCALENDAR