BEGIN:VCALENDAR
VERSION:2.0
PRODID:-//rm//event//DE
METHOD:REQUEST
NAME:rm
X-WR-CALNAME:rm
BEGIN:VEVENT
UID:494ed0de-7349-4d98-9862-5ae38dccc61b
SEQUENCE:0
DTSTAMP:20260423T124506Z
DTSTART:20260519T220000Z
DTEND:20260519T220000Z
SUMMARY:Bergische Universität Wuppertal: Recruiting-Tag
LOCATION:Bergische Universität Wuppertal
DESCRIPTION:Weitere Informationen
URL;VALUE=URI:https://www.rheinmetall.com/de/events/2026/karriere/bergisch
 e-universitaet-wuppertal-recruiting-tag
END:VEVENT
END:VCALENDAR