BEGIN:VCALENDAR
VERSION:2.0
PRODID:-//rm//event//DE
METHOD:REQUEST
NAME:rm
X-WR-CALNAME:rm
BEGIN:VEVENT
UID:16611b36-567a-4a4c-bf53-554115c6646e
SEQUENCE:0
DTSTAMP:20260423T123324Z
DTSTART:20260519T220000Z
DTEND:20260519T220000Z
SUMMARY:University of Wuppertal: Recruiting Day
LOCATION:University of Wuppertal
DESCRIPTION:/ Further Information
URL;VALUE=URI:https://www.rheinmetall.com/en/events/2026/career/university
 -of-wuppertal-recruiting-day
END:VEVENT
END:VCALENDAR