BEGIN:VCALENDAR
VERSION:2.0
PRODID:-//rm//event//DE
METHOD:REQUEST
NAME:rm
X-WR-CALNAME:rm
BEGIN:VEVENT
UID:05ff9bb9-d726-47aa-9542-6c9d3ad83130
SEQUENCE:0
DTSTAMP:20260423T202439Z
DTSTART:20260526T220000Z
DTEND:20260526T220000Z
SUMMARY:Rheinmetall Karrierekick
LOCATION:Signal Iduna Park\, Dortmund
DESCRIPTION:Weitere Informationen / Haben Sie Lust\, an der Produktion ein
 es der mordernsten Kampfflugzeuge der Welt mitzuwirken? Beigesterin Sie si
 ch für präzise Mechanik\, höchste Qualitätsstandards und innovativ
URL;VALUE=URI:https://www.rheinmetall.com/de/events/2026/karriere/rheinmet
 all-karriereanstoss-mai
END:VEVENT
END:VCALENDAR