BEGIN:VCALENDAR
VERSION:2.0
PRODID:-//rm//event//DE
METHOD:REQUEST
NAME:rm
X-WR-CALNAME:rm
BEGIN:VEVENT
UID:a805ad31-9658-4fe9-b933-7530ecb6dfa6
SEQUENCE:0
DTSTAMP:20260424T020325Z
DTSTART:20260526T220000Z
DTEND:20260526T220000Z
SUMMARY:Rheinmetall Career Kick-off
LOCATION:Signal Iduna Park\, Dortmund
DESCRIPTION:/ Further Information Our career event for working students! F
 urther information and application details for the event will follow!
URL;VALUE=URI:https://www.rheinmetall.com/en/events/2026/career/rheinmetal
 l-career-kick-off-may
END:VEVENT
END:VCALENDAR