BEGIN:VCALENDAR
VERSION:2.0
PRODID:-//rm//event//DE
METHOD:REQUEST
NAME:rm
X-WR-CALNAME:rm
BEGIN:VEVENT
UID:436cc165-c23a-4f6d-823d-f652433c048c
SEQUENCE:0
DTSTAMP:20260424T071248Z
DTSTART:20260527T220000Z
DTEND:20260527T220000Z
SUMMARY:talent transfair CAU Kiel
LOCATION:Christina-Albrechts-Universität zu Kiel
DESCRIPTION:/ Further Information
URL;VALUE=URI:https://www.rheinmetall.com/en/events/2026/career/talent-tra
 nsfair-cau-kiel
END:VEVENT
END:VCALENDAR