BEGIN:VCALENDAR
VERSION:2.0
PRODID:-//rm//event//DE
METHOD:REQUEST
NAME:rm
X-WR-CALNAME:rm
BEGIN:VEVENT
UID:99fc8c72-9a84-4762-a3de-47ae272366bd
SEQUENCE:0
DTSTAMP:20260423T155406Z
DTSTART:20260615T220000Z
DTEND:20260615T220000Z
SUMMARY:Bonding TU Braunschweig
LOCATION:TU Braunschweig
DESCRIPTION:Weitere Informationen
URL;VALUE=URI:https://www.rheinmetall.com/de/events/2026/karriere/bonding-
 tu-braunschweig
END:VEVENT
END:VCALENDAR