BEGIN:VCALENDAR
VERSION:2.0
PRODID:-//rm//event//DE
METHOD:REQUEST
NAME:rm
X-WR-CALNAME:rm
BEGIN:VEVENT
UID:d06c4484-4f63-4004-89f8-261ee23f0389
SEQUENCE:0
DTSTAMP:20260423T174528Z
DTSTART:20260621T220000Z
DTEND:20260621T220000Z
SUMMARY:IKOM
LOCATION:TUM Campus Garching\, München
DESCRIPTION:Weitere Informationen
URL;VALUE=URI:https://www.rheinmetall.com/de/events/2026/karriere/ikom
END:VEVENT
END:VCALENDAR