BEGIN:VCALENDAR
VERSION:2.0
PRODID:-//rm//event//DE
METHOD:REQUEST
NAME:rm
X-WR-CALNAME:rm
BEGIN:VEVENT
UID:316614ed-dd97-4171-ba83-f19bfab997d8
SEQUENCE:0
DTSTAMP:20260423T175925Z
DTSTART:20260807T220000Z
DTEND:20260807T220000Z
SUMMARY:Rheinmetall Karrierekick
LOCATION:Signal Iduna Park\, Dortmund
DESCRIPTION:Weitere Informationen Unser Karriereevent für Ingenieurinnen 
 und Ingenieure! Weitere Informationen und Bewerbung zum Event folgen!
URL;VALUE=URI:https://www.rheinmetall.com/de/events/2026/karriere/rheinmet
 all-karrierekick-august
END:VEVENT
END:VCALENDAR