BEGIN:VCALENDAR
VERSION:2.0
PRODID:-//rm//event//DE
METHOD:REQUEST
NAME:rm
X-WR-CALNAME:rm
BEGIN:VEVENT
UID:e7baf8d9-c152-4ff2-a56b-52ae34f3c0f3
SEQUENCE:0
DTSTAMP:20260423T160937Z
DTSTART:20260807T220000Z
DTEND:20260807T220000Z
SUMMARY:Rheinmetall Career Kick
LOCATION:Signal Iduna Park\, Dortmund
DESCRIPTION:/ Further Information Our career event for engineers! Further 
 information and application details for the event will follow!
URL;VALUE=URI:https://www.rheinmetall.com/en/events/2026/career/rheinmetal
 l-career-kick-august
END:VEVENT
END:VCALENDAR