BEGIN:VCALENDAR
VERSION:2.0
PRODID:-//rm//event//DE
METHOD:REQUEST
NAME:rm
X-WR-CALNAME:rm
BEGIN:VEVENT
UID:4557920f-7cf3-45c7-a008-3af0fbeeca3c
SEQUENCE:0
DTSTAMP:20260423T161105Z
DTSTART:20260825T220000Z
DTEND:20260829T220000Z
SUMMARY:Gamescom
LOCATION:Kölnmesse\, Köln
DESCRIPTION:/ Further Information / Visit us in the career area at Gamesco
 m. For further information\, please visit:
URL;VALUE=URI:https://www.rheinmetall.com/en/events/2026/career/gamescom
END:VEVENT
END:VCALENDAR