BEGIN:VCALENDAR
VERSION:2.0
PRODID:-//rm//event//DE
METHOD:REQUEST
NAME:rm
X-WR-CALNAME:rm
BEGIN:VEVENT
UID:61e70b12-0fc4-4c68-acb7-e25a19b50084
SEQUENCE:0
DTSTAMP:20260423T123134Z
DTSTART:20261021T220000Z
DTEND:20261022T220000Z
SUMMARY:Her Career
LOCATION:MOC Event Center Messe München
DESCRIPTION:Weitere Informationen
URL;VALUE=URI:https://www.rheinmetall.com/de/events/2026/karriere/her-care
 er
END:VEVENT
END:VCALENDAR