BEGIN:VCALENDAR
VERSION:2.0
PRODID:-//rm//event//DE
METHOD:REQUEST
NAME:rm
X-WR-CALNAME:rm
BEGIN:VEVENT
UID:1ad81c8c-6fc7-4bd8-a927-f973098493ad
SEQUENCE:0
DTSTAMP:20260423T162521Z
DTSTART:20261027T230000Z
DTEND:20261027T230000Z
SUMMARY:VDI Recruiting Day Hamburg
LOCATION:Handelskammer Hamburg
DESCRIPTION:/ Further Information / For members of the VDI – further inf
 ormation and registration at:
URL;VALUE=URI:https://www.rheinmetall.com/en/events/2026/career/vdi-recrui
 ting-day-hamburg
END:VEVENT
END:VCALENDAR